BEGIN:VCALENDAR
VERSION:2.0
PRODID:spatie/icalendar-generator
DESCRIPTION:Events from Ferenczy Noémi Középiskolai Leánykollégium
X-WR-CALDESC:Events from Ferenczy Noémi Középiskolai Leánykollégium
REFRESH-INTERVAL;VALUE=DURATION:PT1440M
X-PUBLISHED-TTL:PT1440M
BEGIN:VTIMEZONE
TZID:Etc/GMT-1
BEGIN:STANDARD
DTSTART:20250816T153000Z
TZOFFSETFROM:+0100
TZOFFSETTO:+0100
END:STANDARD
END:VTIMEZONE
BEGIN:VTIMEZONE
TZID:UTC
BEGIN:STANDARD
DTSTART:20250728T081546Z
TZOFFSETFROM:+0000
TZOFFSETTO:+0000
END:STANDARD
END:VTIMEZONE
BEGIN:VEVENT
UID:1198-52
DTSTAMP:20260424T081546Z
SUMMARY:Népliget Tájfutó verseny
LOCATION:
ORGANIZER;CN=Straub Eszter:MAILTO:straubireneszter@gmail.com
DTSTART;TZID=Etc/GMT-1:20260513T153000
DTEND;TZID=Etc/GMT-1:20260513T173000
X-ALT-DESC;FMTTYPE=TEXT/HTML:
CATEGORIES:General
URL;VALUE=URI:https://ferenczykollegium.hu/?mc-events=nepliget-tajfuto-vers
 eny
METHOD:PUBLISH
END:VEVENT
END:VCALENDAR